BEGIN:VCALENDAR
VERSION:2.0
PRODID:-//Shall We Wine - ECPv6.15.20//NONSGML v1.0//EN
CALSCALE:GREGORIAN
METHOD:PUBLISH
X-WR-CALNAME:Shall We Wine
X-ORIGINAL-URL:https://shallwewine.com
X-WR-CALDESC:Events for Shall We Wine
REFRESH-INTERVAL;VALUE=DURATION:PT1H
X-Robots-Tag:noindex
X-PUBLISHED-TTL:PT1H
BEGIN:VTIMEZONE
TZID:America/Chicago
BEGIN:DAYLIGHT
TZOFFSETFROM:-0600
TZOFFSETTO:-0500
TZNAME:CDT
DTSTART:20230312T080000
END:DAYLIGHT
BEGIN:STANDARD
TZOFFSETFROM:-0500
TZOFFSETTO:-0600
TZNAME:CST
DTSTART:20231105T070000
END:STANDARD
BEGIN:DAYLIGHT
TZOFFSETFROM:-0600
TZOFFSETTO:-0500
TZNAME:CDT
DTSTART:20240310T080000
END:DAYLIGHT
BEGIN:STANDARD
TZOFFSETFROM:-0500
TZOFFSETTO:-0600
TZNAME:CST
DTSTART:20241103T070000
END:STANDARD
BEGIN:DAYLIGHT
TZOFFSETFROM:-0600
TZOFFSETTO:-0500
TZNAME:CDT
DTSTART:20250309T080000
END:DAYLIGHT
BEGIN:STANDARD
TZOFFSETFROM:-0500
TZOFFSETTO:-0600
TZNAME:CST
DTSTART:20251102T070000
END:STANDARD
END:VTIMEZONE
BEGIN:VEVENT
DTSTART;TZID=America/Chicago:20240713T160000
DTEND;TZID=America/Chicago:20240713T190000
DTSTAMP:20260421T180121
CREATED:20240606T164033Z
LAST-MODIFIED:20240626T160319Z
UID:10000130-1720886400-1720897200@shallwewine.com
SUMMARY:Calvados Spirit Tasting at Binny's Beverage Depot- Downers Grove
DESCRIPTION:
URL:https://shallwewine.com/event/calvados-tasting-25/
LOCATION:Downers Grove\, 2020 Butterfield Rd\, Downers Grove\, 60515\, United States
CATEGORIES:Tastings
ATTACH;FMTTYPE=image/jpeg:https://shallwewine.com/wp-content/uploads/2024/06/Clavados_Tasting-1.jpg
END:VEVENT
BEGIN:VEVENT
DTSTART;TZID=America/Chicago:20240713T160000
DTEND;TZID=America/Chicago:20240713T190000
DTSTAMP:20260421T180121
CREATED:20240606T164145Z
LAST-MODIFIED:20240626T160542Z
UID:10000133-1720886400-1720897200@shallwewine.com
SUMMARY:Calvados Spirit Tasting at Binny's Beverage Depot Bolingbrook
DESCRIPTION:
URL:https://shallwewine.com/event/calvados-tasting-26/
LOCATION:Bolingbrook\, 639 E Boughton Rd\, Bolingbrook\, IL\, 60440\, United States
CATEGORIES:Tastings
ATTACH;FMTTYPE=image/jpeg:https://shallwewine.com/wp-content/uploads/2024/06/Clavados_Tasting-2.jpg
END:VEVENT
BEGIN:VEVENT
DTSTART;TZID=America/Chicago:20240713T160000
DTEND;TZID=America/Chicago:20240713T190000
DTSTAMP:20260421T180121
CREATED:20240606T164239Z
LAST-MODIFIED:20240626T160636Z
UID:10000132-1720886400-1720897200@shallwewine.com
SUMMARY:Calvados Spirit Tasting at Binny's Beverage Depot-Evergreen Park
DESCRIPTION:
URL:https://shallwewine.com/event/calvados-tasting-27/
LOCATION:Evergreen Park\, 3447 W 95th St\, Evergreen Park\, 60805\, United States
CATEGORIES:Tastings
ATTACH;FMTTYPE=image/jpeg:https://shallwewine.com/wp-content/uploads/2024/06/Clavados_Tasting-3.jpg
END:VEVENT
END:VCALENDAR