BEGIN:VCALENDAR
VERSION:2.0
PRODID:-//Shall We Wine - ECPv6.15.20//NONSGML v1.0//EN
CALSCALE:GREGORIAN
METHOD:PUBLISH
X-WR-CALNAME:Shall We Wine
X-ORIGINAL-URL:https://shallwewine.com
X-WR-CALDESC:Events for Shall We Wine
REFRESH-INTERVAL;VALUE=DURATION:PT1H
X-Robots-Tag:noindex
X-PUBLISHED-TTL:PT1H
BEGIN:VTIMEZONE
TZID:America/Chicago
BEGIN:DAYLIGHT
TZOFFSETFROM:-0600
TZOFFSETTO:-0500
TZNAME:CDT
DTSTART:20190310T080000
END:DAYLIGHT
BEGIN:STANDARD
TZOFFSETFROM:-0500
TZOFFSETTO:-0600
TZNAME:CST
DTSTART:20191103T070000
END:STANDARD
BEGIN:DAYLIGHT
TZOFFSETFROM:-0600
TZOFFSETTO:-0500
TZNAME:CDT
DTSTART:20200308T080000
END:DAYLIGHT
BEGIN:STANDARD
TZOFFSETFROM:-0500
TZOFFSETTO:-0600
TZNAME:CST
DTSTART:20201101T070000
END:STANDARD
BEGIN:DAYLIGHT
TZOFFSETFROM:-0600
TZOFFSETTO:-0500
TZNAME:CDT
DTSTART:20210314T080000
END:DAYLIGHT
BEGIN:STANDARD
TZOFFSETFROM:-0500
TZOFFSETTO:-0600
TZNAME:CST
DTSTART:20211107T070000
END:STANDARD
END:VTIMEZONE
BEGIN:VEVENT
DTSTART;TZID=America/Chicago:20201101T110000
DTEND;TZID=America/Chicago:20201101T130000
DTSTAMP:20260421T210636
CREATED:20201020T191543Z
LAST-MODIFIED:20201112T142711Z
UID:10000082-1604228400-1604235600@shallwewine.com
SUMMARY:Join Us For A Silent Walk
DESCRIPTION:Please join Shall We Wine for a short\, silent walk on Sunday\, November 1st @ 11:00 a.m. CST at Washington Park. A silent walk begins with a prompt. We will then walk (about a mile) around the beautiful hidden oasis in Washington Park. Our walk will end with a circle where we will discuss the prompt and fellowship. \nThe designated meetup location will be sent to you following registration. \nPREPARING FOR THE EVENT\nRemember to wear appropriate clothing\, comfortable shoes and bring water\, a towel\, and blanket (for meditation). \nWe hope to see you there!
URL:https://shallwewine.com/event/join-us-for-a-silent-walk-2/
LOCATION:IL
CATEGORIES:Events
ATTACH;FMTTYPE=image/jpeg:https://shallwewine.com/wp-content/uploads/2020/10/10-11-2020_Event-Image.jpg
ORGANIZER;CN="Shall We Wine":MAILTO:sww@shallwewine.com
END:VEVENT
BEGIN:VEVENT
DTSTART;TZID=America/Chicago:20201106T180000
DTEND;TZID=America/Chicago:20201106T190000
DTSTAMP:20260421T210636
CREATED:20201021T142659Z
LAST-MODIFIED:20201112T142706Z
UID:10000083-1604685600-1604689200@shallwewine.com
SUMMARY:Just the Facts - Fundamentals of Food & Wine Pairing
DESCRIPTION:I’m very excited to share my years of experience and expertise creating unforgettable food and wine pairings that you can recreate at home\, for events and dining out. You’ll want to take notes as I reveal some of the most cherished insider secrets and strategies for successful and game changing food and wine synergy. \nFood list:\n\n\nShellfishSeafoodFruit and VegetablesInternational CuisinesCaribbeanSoulIndian\n\nJapanese/SushiMexicanHoliday FoodsSpicy FoodsItalian& more!\n\n\n\n\nBrian Duncan\n\nChicago native Brian Duncan can be best described as a food\, wine and hospitality evangelist. He possesses an unquenchable enthusiasm enriched by decades as a restaurateur\, winemaker\, seminar speaker and wine educator. Duncan has contributed his expertise to several Chicago’s premier dining destinations\, including (Co-Founding) BIN 36 Restaurants\, BIN Cafe Wine Bar and Market and A Mano Trattoria. \nAs a winemaker\, Brian created the BIN 36 and D&S (Duncan & Sachs) wine brands sold in 30 markets around the United States. Under his guidance\, BIN 36 received an “Award of Unique Distinction” from the Wine Enthusiast magazine for its commitment to delivering the most wine-friendly experience to its guests. BIN 36 was also chosen by Wine & Spirits magazine as “The Best Wine-Pairing System” in the nation. Brian’s accolades include being featured as one of America’s leading wine experts in GQ and Food & Wine magazine\, and as a returning featured speaker at the Aspen Food & Wine Classic.
URL:https://shallwewine.com/event/just-the-facts-fundamentals-of-food-wine-pairing/
LOCATION:IL
CATEGORIES:Educational Series,Events,Zoom Event
ATTACH;FMTTYPE=image/jpeg:https://shallwewine.com/wp-content/uploads/2020/10/11-06-2020_Event-Image.jpg
ORGANIZER;CN="Shall We Wine":MAILTO:sww@shallwewine.com
END:VEVENT
BEGIN:VEVENT
DTSTART;TZID=America/Chicago:20201120T180000
DTEND;TZID=America/Chicago:20201120T190000
DTSTAMP:20260421T210636
CREATED:20201020T184619Z
LAST-MODIFIED:20201118T001921Z
UID:10000080-1605895200-1605898800@shallwewine.com
SUMMARY:Shall We Wine Cocktail Hour - Marene Babula - Free Event
DESCRIPTION:You Are Invited\nPlease join Regine T. Rousseau\, Founder and CEO of Shall We Wine and Marene Babula of Vranken Pommery on Friday\, November 20th @ 6pm CST. Explore famous Artwork of the caves of Pommery while sipping their impressive champagnes. \nYou know Shall We Wine for “putting you on” fabulous brands and producers. With these virtual hours\, we aim to infuse that same joy and wonder you would during our usual tastings… but while you’re in the comforts of your home! \nAnd unlike many large scale tastings\, this invite gives you exclusive access to an intimate mini-party with amazing people in the food and beverage world! Come\, and let’s taste through some magic. See you soon! \n\n \nOur Guest: Marene Babula of Champagne Pommery\nMarene Babula is the US National Accounts and Midwest Region Manager at Vranken Pommery. She has an extensive knowledge of champagne. She has represented world class brands like; Champagne Laurent Perrier\, Lanson\, and many others. \n\nBUBBLES!!!!\nThe below Wine and Champagnes are available and on sale at Drizly.com. Click on each photo for links\n \n\n \nChateau La Gordonne Rose \n\n \nChampagne Pommery Brut Royal NV \n\n \nLouis Pommery CA Brut NV \n\n\nRegistration is required below. \nWhile there is no charge for this event\, donations are very much appreciated: \nZelle: Regine@ShallWeWine.com\nVenmo: @Regine-Rousseau\nCashApp: @ShallWeWine \nThank you for your continued support in making Shall We Wine your go-to wine & lifestyle resource.
URL:https://shallwewine.com/event/shall-we-wine-cocktail-hour-marene-babul/
LOCATION:IL
CATEGORIES:Cocktail Hour,Events,Zoom Event
ATTACH;FMTTYPE=image/jpeg:https://shallwewine.com/wp-content/uploads/2020/10/11-20-2020_Event-Image.jpg
ORGANIZER;CN="Shall We Wine":MAILTO:sww@shallwewine.com
END:VEVENT
END:VCALENDAR