BEGIN:VCALENDAR
VERSION:2.0
PRODID:-//Shall We Wine - ECPv6.15.20//NONSGML v1.0//EN
CALSCALE:GREGORIAN
METHOD:PUBLISH
X-WR-CALNAME:Shall We Wine
X-ORIGINAL-URL:https://shallwewine.com
X-WR-CALDESC:Events for Shall We Wine
REFRESH-INTERVAL;VALUE=DURATION:PT1H
X-Robots-Tag:noindex
X-PUBLISHED-TTL:PT1H
BEGIN:VTIMEZONE
TZID:America/Chicago
BEGIN:DAYLIGHT
TZOFFSETFROM:-0600
TZOFFSETTO:-0500
TZNAME:CDT
DTSTART:20230312T080000
END:DAYLIGHT
BEGIN:STANDARD
TZOFFSETFROM:-0500
TZOFFSETTO:-0600
TZNAME:CST
DTSTART:20231105T070000
END:STANDARD
BEGIN:DAYLIGHT
TZOFFSETFROM:-0600
TZOFFSETTO:-0500
TZNAME:CDT
DTSTART:20240310T080000
END:DAYLIGHT
BEGIN:STANDARD
TZOFFSETFROM:-0500
TZOFFSETTO:-0600
TZNAME:CST
DTSTART:20241103T070000
END:STANDARD
BEGIN:DAYLIGHT
TZOFFSETFROM:-0600
TZOFFSETTO:-0500
TZNAME:CDT
DTSTART:20250309T080000
END:DAYLIGHT
BEGIN:STANDARD
TZOFFSETFROM:-0500
TZOFFSETTO:-0600
TZNAME:CST
DTSTART:20251102T070000
END:STANDARD
END:VTIMEZONE
BEGIN:VEVENT
DTSTART;TZID=America/Chicago:20240615T160000
DTEND;TZID=America/Chicago:20240615T190000
DTSTAMP:20260421T212252
CREATED:20240606T161647Z
LAST-MODIFIED:20240606T195602Z
UID:10000124-1718467200-1718478000@shallwewine.com
SUMMARY:Calvados Spirit Tasting at Binny's Beverage Depot
DESCRIPTION:
URL:https://shallwewine.com/event/calvados-tasting-8/
LOCATION:Glen Ellyn\, 670 Roosevelt Rd\, Glen Ellyn\, 60137\, United States
CATEGORIES:Tastings
ATTACH;FMTTYPE=image/jpeg:https://shallwewine.com/wp-content/uploads/2024/06/Clavados_Tasting-1.jpg
END:VEVENT
BEGIN:VEVENT
DTSTART;TZID=America/Chicago:20240615T160000
DTEND;TZID=America/Chicago:20240615T190000
DTSTAMP:20260421T212252
CREATED:20240606T161536Z
LAST-MODIFIED:20240606T195607Z
UID:10000123-1718467200-1718478000@shallwewine.com
SUMMARY:Calvados Spirit Tasting at Binny's Beverage Depot
DESCRIPTION:
URL:https://shallwewine.com/event/calvados-tasting-7/
LOCATION:Joliet\, 3150 Tonti Dr\, Joliet\, 60431\, United States
CATEGORIES:Tastings
ATTACH;FMTTYPE=image/jpeg:https://shallwewine.com/wp-content/uploads/2024/06/Clavados_Tasting-4.jpg
END:VEVENT
BEGIN:VEVENT
DTSTART;TZID=America/Chicago:20240615T120000
DTEND;TZID=America/Chicago:20240615T150000
DTSTAMP:20260421T212252
CREATED:20240606T161804Z
LAST-MODIFIED:20240606T195612Z
UID:10000125-1718452800-1718463600@shallwewine.com
SUMMARY:Calvados Spirit Tasting at Binny's Beverage Depot
DESCRIPTION:
URL:https://shallwewine.com/event/calvados-tasting-9/
LOCATION:Skokie\, 5100 Dempster St\, Skokie\, IL\, 60077\, United States
CATEGORIES:Tastings
ATTACH;FMTTYPE=image/jpeg:https://shallwewine.com/wp-content/uploads/2024/06/Clavados_Tasting-3.jpg
END:VEVENT
BEGIN:VEVENT
DTSTART;TZID=America/Chicago:20240614T170000
DTEND;TZID=America/Chicago:20240614T200000
DTSTAMP:20260421T212252
CREATED:20240606T161414Z
LAST-MODIFIED:20240606T195617Z
UID:10000122-1718384400-1718395200@shallwewine.com
SUMMARY:Calvados Spirit Tasting at Binny's Beverage Depot
DESCRIPTION:
URL:https://shallwewine.com/event/calvados-tasting-6/
LOCATION:Glencoe\, 85 Green Bay Rd\, Glencoe\, IL\, 60022\, United States
CATEGORIES:Tastings
ATTACH;FMTTYPE=image/jpeg:https://shallwewine.com/wp-content/uploads/2024/06/Clavados_Tasting-2.jpg
END:VEVENT
BEGIN:VEVENT
DTSTART;TZID=America/Chicago:20240614T170000
DTEND;TZID=America/Chicago:20240614T200000
DTSTAMP:20260421T212252
CREATED:20240606T161306Z
LAST-MODIFIED:20240606T195422Z
UID:10000121-1718384400-1718395200@shallwewine.com
SUMMARY:Calvados Spirit Tasting at Binny's Beverage Depot
DESCRIPTION:
URL:https://shallwewine.com/event/calvados-tasting-5/
LOCATION:Elmwood Park\, 7330 W North Ave\, Elmwood Park\, 60707\, United States
CATEGORIES:Tastings
ATTACH;FMTTYPE=image/jpeg:https://shallwewine.com/wp-content/uploads/2024/06/Clavados_Tasting-1.jpg
END:VEVENT
BEGIN:VEVENT
DTSTART;TZID=America/Chicago:20240608T160000
DTEND;TZID=America/Chicago:20240608T190000
DTSTAMP:20260421T212252
CREATED:20240606T161106Z
LAST-MODIFIED:20240606T195427Z
UID:10000120-1717862400-1717873200@shallwewine.com
SUMMARY:Calvados Spirit Tasting at Binny's Beverage Depot
DESCRIPTION:
URL:https://shallwewine.com/event/calvados-tasting-4/
LOCATION:Bloomingdale\, 353 W Army Trail Rd\, Bloomingdale\, IL\, 60108\, United States
CATEGORIES:Tastings
ATTACH;FMTTYPE=image/jpeg:https://shallwewine.com/wp-content/uploads/2024/06/Clavados_Tasting-4.jpg
END:VEVENT
BEGIN:VEVENT
DTSTART;TZID=America/Chicago:20240608T130000
DTEND;TZID=America/Chicago:20240608T160000
DTSTAMP:20260421T212252
CREATED:20240606T160956Z
LAST-MODIFIED:20240606T195431Z
UID:10000119-1717851600-1717862400@shallwewine.com
SUMMARY:Calvados Spirit Tasting at Binny's Beverage Depot
DESCRIPTION:
URL:https://shallwewine.com/event/calvados-tasting-3/
LOCATION:Hyde Park\, 1240 E 47th St\, Chicago\, IL\, 60653\, United States
CATEGORIES:Tastings
ATTACH;FMTTYPE=image/jpeg:https://shallwewine.com/wp-content/uploads/2024/06/Clavados_Tasting-3.jpg
END:VEVENT
BEGIN:VEVENT
DTSTART;TZID=America/Chicago:20240607T170000
DTEND;TZID=America/Chicago:20240607T200000
DTSTAMP:20260421T212252
CREATED:20240606T160805Z
LAST-MODIFIED:20240606T195438Z
UID:10000118-1717779600-1717790400@shallwewine.com
SUMMARY:Calvados Spirit Tasting at Binny's Beverage Depot
DESCRIPTION:
URL:https://shallwewine.com/event/calvados-tasting-2/
LOCATION:Arlington Heights\, 35 W Rand Rd\, Arlington Heights\, 60004\, United States
CATEGORIES:Tastings
ATTACH;FMTTYPE=image/jpeg:https://shallwewine.com/wp-content/uploads/2024/06/Clavados_Tasting-2.jpg
END:VEVENT
BEGIN:VEVENT
DTSTART;TZID=America/Chicago:20240607T170000
DTEND;TZID=America/Chicago:20240607T200000
DTSTAMP:20260421T212252
CREATED:20240606T160513Z
LAST-MODIFIED:20240606T195442Z
UID:10000117-1717779600-1717790400@shallwewine.com
SUMMARY:Calvados Spirit Tasting at Binny's Beverage Depot
DESCRIPTION:
URL:https://shallwewine.com/event/calvados-tasting/
LOCATION:Lakeview\, 3000 N Clark St\, Chicago\, IL\, 60657\, United States
CATEGORIES:Tastings
ATTACH;FMTTYPE=image/jpeg:https://shallwewine.com/wp-content/uploads/2024/06/Clavados_Tasting-1.jpg
END:VEVENT
END:VCALENDAR