BEGIN:VCALENDAR
VERSION:2.0
PRODID:-//Shall We Wine - ECPv6.15.20//NONSGML v1.0//EN
CALSCALE:GREGORIAN
METHOD:PUBLISH
X-WR-CALNAME:Shall We Wine
X-ORIGINAL-URL:https://shallwewine.com
X-WR-CALDESC:Events for Shall We Wine
REFRESH-INTERVAL;VALUE=DURATION:PT1H
X-Robots-Tag:noindex
X-PUBLISHED-TTL:PT1H
BEGIN:VTIMEZONE
TZID:America/Chicago
BEGIN:DAYLIGHT
TZOFFSETFROM:-0600
TZOFFSETTO:-0500
TZNAME:CDT
DTSTART:20240310T080000
END:DAYLIGHT
BEGIN:STANDARD
TZOFFSETFROM:-0500
TZOFFSETTO:-0600
TZNAME:CST
DTSTART:20241103T070000
END:STANDARD
BEGIN:DAYLIGHT
TZOFFSETFROM:-0600
TZOFFSETTO:-0500
TZNAME:CDT
DTSTART:20250309T080000
END:DAYLIGHT
BEGIN:STANDARD
TZOFFSETFROM:-0500
TZOFFSETTO:-0600
TZNAME:CST
DTSTART:20251102T070000
END:STANDARD
BEGIN:DAYLIGHT
TZOFFSETFROM:-0600
TZOFFSETTO:-0500
TZNAME:CDT
DTSTART:20260308T080000
END:DAYLIGHT
BEGIN:STANDARD
TZOFFSETFROM:-0500
TZOFFSETTO:-0600
TZNAME:CST
DTSTART:20261101T070000
END:STANDARD
END:VTIMEZONE
BEGIN:VEVENT
DTSTART;TZID=America/Chicago:20250607T103000
DTEND;TZID=America/Chicago:20250607T113000
DTSTAMP:20260422T185712
CREATED:20250515T193515Z
LAST-MODIFIED:20250515T193515Z
UID:10000068-1749292200-1749295800@shallwewine.com
SUMMARY:Rest and Rosé: A Reset & Recharge Sound Meditation with Mecca Elevated at Chicago Women’s Park and Garden
DESCRIPTION:Shall We Wine x Mecca Elevated\nAn outdoor sound meditation to release tension\, quiet the mind and restore balance. After our meditation\, stay for a relaxing wine moment featuring your choice of a full strength and non alcoholic Rosé; perfect for sipping and connecting in community.\nBring a mat\, pillow\, or anything to stay comfy \nEvent Location: Chicago Women’s Park and Garden\,1801 S. Indiana Ave\, Chicago\, IL 60616 \nCost: \nSWW EXP Member: $25 per person\, Buy One Bring One Free\nNon-Member: $25 per person\, $10 for one guest \nRegister
URL:https://shallwewine.com/event/rest-and-rose-a-reset-recharge-sound-meditation-with-mecca-elevated-at-chicago-womens-park-and-garden/
LOCATION:Chicago Women’s Park and Garden\, 1801 S. Indiana Ave\, Chicago\, IL\, 60616\, United States
CATEGORIES:Wellness Series
ATTACH;FMTTYPE=image/jpeg:https://shallwewine.com/wp-content/uploads/2025/05/Mecca-Elevated-Image1-.jpg
END:VEVENT
BEGIN:VEVENT
DTSTART;TZID=America/Chicago:20250629T090000
DTEND;TZID=America/Chicago:20250629T100000
DTSTAMP:20260422T185712
CREATED:20250402T203351Z
LAST-MODIFIED:20250520T191730Z
UID:10000159-1751187600-1751191200@shallwewine.com
SUMMARY:Reclaim Wellness - Silent Walk and Meditation
DESCRIPTION:The Shall We Wine Silent Walk and Meditation is an intentional practice of self-care\, reflection\, and connection with nature and community. Come experience the power of silence\, reflection and shared insights . \n– Reading of the Day: Our event begins with a thoughtfully chosen poem or quote\, designed to inspire and set the tone for the meditation. This reading serves as the focal point for our reflective journey. \n– Silent Walk: Following the reading\, we take a short\, silent walk. As we walk\, we allow the words of the reading to permeate our thoughts\, creating a space for personal reflection and inner peace. This quiet time is an opportunity to meditate on the prompt and connect with the present moment. \n– Group Discussion: After the walk\, we gather for a sit-down session where participants can share their thoughts and insights on the prompt. This discussion fosters a sense of community and allows for a deeper understanding of the reading. \n  \nWhat to Bring: \n– Comfortable walking shoes \n– A cushion or mat for the sit-down discussion \n– Water \n– A friend \n– An open heart and mind \n  \nEvent Locations: Different parks are selected for each walk. Participants will receive confirmation of location before each scheduled walk. \nCost: Included in membership \n  \nRegister Here\n 
URL:https://shallwewine.com/event/reclaim-wellness-silent-walk-and-meditation-2/
CATEGORIES:Wellness Series
ATTACH;FMTTYPE=image/jpeg:https://shallwewine.com/wp-content/uploads/2025/04/Deep-Rest-and-Meditation.jpg
END:VEVENT
END:VCALENDAR